BEGIN:VCALENDAR
VERSION:2.0
PRODID:-//Tauxigny-Saint-Bauld - ECPv5.9.1//NONSGML v1.0//EN
CALSCALE:GREGORIAN
METHOD:PUBLISH
X-WR-CALNAME:Tauxigny-Saint-Bauld
X-ORIGINAL-URL:https://www.tauxignysaintbauld.fr
X-WR-CALDESC:évènements pour Tauxigny-Saint-Bauld
BEGIN:VTIMEZONE
TZID:Europe/Paris
BEGIN:DAYLIGHT
TZOFFSETFROM:+0100
TZOFFSETTO:+0200
TZNAME:CEST
DTSTART:20260329T010000
END:DAYLIGHT
BEGIN:STANDARD
TZOFFSETFROM:+0200
TZOFFSETTO:+0100
TZNAME:CET
DTSTART:20261025T010000
END:STANDARD
END:VTIMEZONE
BEGIN:VEVENT
DTSTART;TZID=Europe/Paris:20260808T180000
DTEND;TZID=Europe/Paris:20260808T233000
DTSTAMP:20260424T194454
CREATED:20260423T210955Z
LAST-MODIFIED:20260423T211924Z
UID:3758-1786212000-1786231800@www.tauxignysaintbauld.fr
SUMMARY:Nuit des étoiles
DESCRIPTION:L’Observatoire ouvre ses portes au public pour deux nuits de découverte du ciel d’été et des étoiles filantes. \n  \nPlus d’informations : https://www.astrotouraine.fr
URL:https://www.tauxignysaintbauld.fr/event/nuit-des-etoiles-2/
LOCATION:observatoire\, Tauxigny-Saint-Bauld\, 37310\, France
END:VEVENT
END:VCALENDAR