BEGIN:VCALENDAR
VERSION:2.0
PRODID:-//Tauxigny-Saint-Bauld - ECPv5.9.1//NONSGML v1.0//EN
CALSCALE:GREGORIAN
METHOD:PUBLISH
X-WR-CALNAME:Tauxigny-Saint-Bauld
X-ORIGINAL-URL:https://www.tauxignysaintbauld.fr
X-WR-CALDESC:évènements pour Tauxigny-Saint-Bauld
BEGIN:VTIMEZONE
TZID:Europe/Paris
BEGIN:DAYLIGHT
TZOFFSETFROM:+0100
TZOFFSETTO:+0200
TZNAME:CEST
DTSTART:20220327T010000
END:DAYLIGHT
BEGIN:STANDARD
TZOFFSETFROM:+0200
TZOFFSETTO:+0100
TZNAME:CET
DTSTART:20221030T010000
END:STANDARD
END:VTIMEZONE
BEGIN:VEVENT
DTSTART;TZID=Europe/Paris:20220702T100000
DTEND;TZID=Europe/Paris:20220702T180000
DTSTAMP:20260420T065315
CREATED:20220426T173350Z
LAST-MODIFIED:20220426T173350Z
UID:1646-1656756000-1656784800@www.tauxignysaintbauld.fr
SUMMARY:Terre de Jeux 2024 - Promotion Ping
DESCRIPTION:
URL:https://www.tauxignysaintbauld.fr/event/terre-de-jeux-2024-promotion-ping/
LOCATION:Salle polyvalente\, Rue du stade\, Tauxigny-Saint-Bauld\, 37310\, France
END:VEVENT
END:VCALENDAR